BEGIN:VCALENDAR
VERSION:2.0
PRODID:-//RIGHTHERE//CALENDARIZE IT V3.2//EN
BEGIN:VTIMEZONE
TZID:Europe/London
X-MICROSOFT-CDO-TZID:1
BEGIN:STANDARD
DTSTART:20251026T010000
TZOFFSETFROM:+0100
TZOFFSETTO:+0000
TZNAME:GMT
END:STANDARD
BEGIN:DAYLIGHT
DTSTART:20260329T010000
TZOFFSETFROM:+0000
TZOFFSETTO:+0100
TZNAME:BST
END:DAYLIGHT
BEGIN:STANDARD
DTSTART:20261025T010000
TZOFFSETFROM:+0100
TZOFFSETTO:+0000
TZNAME:GMT
END:STANDARD
END:VTIMEZONE
BEGIN:VEVENT
UID:6832-events@www.gosportmybc.club
DTSTART;VALUE=DATE:20230730
DTEND;VALUE=DATE:20230805
DTSTAMP;TZID=Europe/London:20230702T212728
SUMMARY:Centenary Vane A  National Championships Including Yachting Monthly
 Cup
URL:https://www.gosportmybc.club/events/centenary-vane-a-national-champions
 hips/
ORGANIZER;CN=VACC:MAILTO:VACC@Gosportmybc.club
LOCATION:Cockle Pond\, Gosport\, Hampshire\, PO12 1FA
END:VEVENT
END:VCALENDAR