BEGIN:VCALENDAR
VERSION:2.0
PRODID:-//RIGHTHERE//CALENDARIZE IT V3.2//EN
BEGIN:VTIMEZONE
TZID:Europe/London
X-MICROSOFT-CDO-TZID:1
BEGIN:STANDARD
DTSTART:20251026T010000
TZOFFSETFROM:+0100
TZOFFSETTO:+0000
TZNAME:GMT
END:STANDARD
BEGIN:DAYLIGHT
DTSTART:20260329T010000
TZOFFSETFROM:+0000
TZOFFSETTO:+0100
TZNAME:BST
END:DAYLIGHT
BEGIN:STANDARD
DTSTART:20261025T010000
TZOFFSETFROM:+0100
TZOFFSETTO:+0000
TZNAME:GMT
END:STANDARD
END:VTIMEZONE
BEGIN:VEVENT
UID:5165-events@www.gosportmybc.club
DTSTART;TZID=Europe/London:20230627T180000
DTEND;TZID=Europe/London:20230620T193000
DTSTAMP;TZID=Europe/London:20221208T125440
SUMMARY:DF95 Evening Series
DESCRIPTION:<a href='https://gosportmybc.club/Results/Results2023/DF95ES_13
 .htm'>Race Results</a>\n<a href='https://gosportmybc.club/Results/Results2
 023/DF95ESSum.htm'>Series Summary</a>
URL:https://www.gosportmybc.club/events/df95-evening-series-13/
ORGANIZER;CN=DF95CC:MAILTO:DF95CC@Gosportmybc.club
LOCATION:Cockle Pond\, Gosport\, Hampshire\, PO12 1FA
END:VEVENT
END:VCALENDAR