BEGIN:VCALENDAR
VERSION:2.0
PRODID:-//RIGHTHERE//CALENDARIZE IT V3.2//EN
BEGIN:VTIMEZONE
TZID:Europe/London
X-MICROSOFT-CDO-TZID:1
BEGIN:STANDARD
DTSTART:20251026T010000
TZOFFSETFROM:+0100
TZOFFSETTO:+0000
TZNAME:GMT
END:STANDARD
BEGIN:DAYLIGHT
DTSTART:20260329T010000
TZOFFSETFROM:+0000
TZOFFSETTO:+0100
TZNAME:BST
END:DAYLIGHT
BEGIN:STANDARD
DTSTART:20261025T010000
TZOFFSETFROM:+0100
TZOFFSETTO:+0000
TZNAME:GMT
END:STANDARD
END:VTIMEZONE
BEGIN:VEVENT
UID:16121-events@www.gosportmybc.club
DTSTART;TZID=Europe/London:20260425T100000
DTEND;TZID=Europe/London:20260425T153000
DTSTAMP;TZID=Europe/London:20251202T100524
SUMMARY:V36 Series
DESCRIPTION:<a href=^'https://gosportmybc.club/Results/Results2026/V36_1.ht
 m^'>Race Results</a>\n<a href=^'https://gosportmybc.club/Results/Results20
 26/Vane36Sum.htm^'>Series Summary</a>
URL:https://www.gosportmybc.club/events/v36-series-14/
ORGANIZER;CN=V36CC:MAILTO:V36CC@Gosportmybc.club
LOCATION:
END:VEVENT
END:VCALENDAR